BEGIN:VCALENDAR
VERSION:2.0
PRODID:-//MAM Events - ECPv6.15.20//NONSGML v1.0//EN
CALSCALE:GREGORIAN
METHOD:PUBLISH
X-WR-CALNAME:MAM Events
X-ORIGINAL-URL:https://mam.org/events
X-WR-CALDESC:Events for MAM Events
REFRESH-INTERVAL;VALUE=DURATION:PT1H
X-Robots-Tag:noindex
X-PUBLISHED-TTL:PT1H
BEGIN:VTIMEZONE
TZID:America/Chicago
BEGIN:DAYLIGHT
TZOFFSETFROM:-0600
TZOFFSETTO:-0500
TZNAME:CDT
DTSTART:20250309T080000
END:DAYLIGHT
BEGIN:STANDARD
TZOFFSETFROM:-0500
TZOFFSETTO:-0600
TZNAME:CST
DTSTART:20251102T070000
END:STANDARD
BEGIN:DAYLIGHT
TZOFFSETFROM:-0600
TZOFFSETTO:-0500
TZNAME:CDT
DTSTART:20260308T080000
END:DAYLIGHT
BEGIN:STANDARD
TZOFFSETFROM:-0500
TZOFFSETTO:-0600
TZNAME:CST
DTSTART:20261101T070000
END:STANDARD
BEGIN:DAYLIGHT
TZOFFSETFROM:-0600
TZOFFSETTO:-0500
TZNAME:CDT
DTSTART:20270314T080000
END:DAYLIGHT
BEGIN:STANDARD
TZOFFSETFROM:-0500
TZOFFSETTO:-0600
TZNAME:CST
DTSTART:20271107T070000
END:STANDARD
END:VTIMEZONE
BEGIN:VEVENT
DTSTART;TZID=America/Chicago:20260501T100000
DTEND;TZID=America/Chicago:20260501T170000
DTSTAMP:20260419T151750
CREATED:20260212T192018Z
LAST-MODIFIED:20260212T192018Z
UID:10002648-1777629600-1777654800@mam.org
SUMMARY:Member Swap Weekend
DESCRIPTION:Receive free general admission to Betty Brinn Children’s Museum and Milwaukee Public Museum when you show your Milwaukee Art Museum Member card. Please check each museum for hours. \nNot a Member? \nJoin today →
URL:https://mam.org/events/event/member-swap-weekend/2026-05-01/
LOCATION:Milwaukee Art Museum\, 700 N. Art Museum Drive\, Milwaukee\, WI\, 53202\, United States
CATEGORIES:For Members,Free for Members,In-Person
ATTACH;FMTTYPE=image/jpeg:https://mam.org/events/wp-content/uploads/2026/02/FRPhoto_241107G_C1_083.jpg
GEO:43.0401373;-87.897045
X-APPLE-STRUCTURED-LOCATION;VALUE=URI;X-ADDRESS=Milwaukee Art Museum 700 N. Art Museum Drive Milwaukee WI 53202 United States;X-APPLE-RADIUS=500;X-TITLE=700 N. Art Museum Drive:geo:-87.897045,43.0401373
END:VEVENT
BEGIN:VEVENT
DTSTART;TZID=America/Chicago:20260502T100000
DTEND;TZID=America/Chicago:20260502T170000
DTSTAMP:20260419T151750
CREATED:20260212T192018Z
LAST-MODIFIED:20260212T192018Z
UID:10002649-1777716000-1777741200@mam.org
SUMMARY:Member Swap Weekend
DESCRIPTION:Receive free general admission to Betty Brinn Children’s Museum and Milwaukee Public Museum when you show your Milwaukee Art Museum Member card. Please check each museum for hours. \nNot a Member? \nJoin today →
URL:https://mam.org/events/event/member-swap-weekend/2026-05-02/
LOCATION:Milwaukee Art Museum\, 700 N. Art Museum Drive\, Milwaukee\, WI\, 53202\, United States
CATEGORIES:For Members,Free for Members,In-Person
ATTACH;FMTTYPE=image/jpeg:https://mam.org/events/wp-content/uploads/2026/02/FRPhoto_241107G_C1_083.jpg
GEO:43.0401373;-87.897045
X-APPLE-STRUCTURED-LOCATION;VALUE=URI;X-ADDRESS=Milwaukee Art Museum 700 N. Art Museum Drive Milwaukee WI 53202 United States;X-APPLE-RADIUS=500;X-TITLE=700 N. Art Museum Drive:geo:-87.897045,43.0401373
END:VEVENT
BEGIN:VEVENT
DTSTART;TZID=America/Chicago:20260502T110000
DTEND;TZID=America/Chicago:20260502T120000
DTSTAMP:20260419T151750
CREATED:20260212T190055Z
LAST-MODIFIED:20260212T190339Z
UID:10002643-1777719600-1777723200@mam.org
SUMMARY:Member Month Tour: 20th- and 21st-Century Design
DESCRIPTION:Join a Member-only tour for a closer look at objects in the Museum’s 20th- and 21st-Century design collection. This docent-led tour will begin in Windhover Hall\, near the Museum’s main entrance and admissions desks. Space is limited. RSVP at membership@mam.org or by calling 414-224-3284. \nNot a Member? \nJoin today →
URL:https://mam.org/events/event/member-month-tour-design/
LOCATION:Milwaukee Art Museum\, 700 N. Art Museum Drive\, Milwaukee\, WI\, 53202\, United States
CATEGORIES:Drop-In Tours,For Members,Free for Members,In-Person,Requires Reservation,Tours
ATTACH;FMTTYPE=image/jpeg:https://mam.org/events/wp-content/uploads/2026/02/RS9659_r_m2021_778_1_3_lpr.jpg
GEO:43.0401373;-87.897045
X-APPLE-STRUCTURED-LOCATION;VALUE=URI;X-ADDRESS=Milwaukee Art Museum 700 N. Art Museum Drive Milwaukee WI 53202 United States;X-APPLE-RADIUS=500;X-TITLE=700 N. Art Museum Drive:geo:-87.897045,43.0401373
END:VEVENT
BEGIN:VEVENT
DTSTART;TZID=America/Chicago:20260503T100000
DTEND;TZID=America/Chicago:20260503T170000
DTSTAMP:20260419T151750
CREATED:20260212T192018Z
LAST-MODIFIED:20260212T192018Z
UID:10002650-1777802400-1777827600@mam.org
SUMMARY:Member Swap Weekend
DESCRIPTION:Receive free general admission to Betty Brinn Children’s Museum and Milwaukee Public Museum when you show your Milwaukee Art Museum Member card. Please check each museum for hours. \nNot a Member? \nJoin today →
URL:https://mam.org/events/event/member-swap-weekend/2026-05-03/
LOCATION:Milwaukee Art Museum\, 700 N. Art Museum Drive\, Milwaukee\, WI\, 53202\, United States
CATEGORIES:For Members,Free for Members,In-Person
ATTACH;FMTTYPE=image/jpeg:https://mam.org/events/wp-content/uploads/2026/02/FRPhoto_241107G_C1_083.jpg
GEO:43.0401373;-87.897045
X-APPLE-STRUCTURED-LOCATION;VALUE=URI;X-ADDRESS=Milwaukee Art Museum 700 N. Art Museum Drive Milwaukee WI 53202 United States;X-APPLE-RADIUS=500;X-TITLE=700 N. Art Museum Drive:geo:-87.897045,43.0401373
END:VEVENT
BEGIN:VEVENT
DTSTART;TZID=America/Chicago:20260507T100000
DTEND;TZID=America/Chicago:20260507T200000
DTSTAMP:20260419T151750
CREATED:20260212T192435Z
LAST-MODIFIED:20260212T192508Z
UID:10002651-1778148000-1778184000@mam.org
SUMMARY:Museum Store: Member Double Discount Day
DESCRIPTION:In celebration of Member Month\, shop with double your discount (20%) online and at the Museum Store every Thursday in May.
URL:https://mam.org/events/event/museum-store-double-discount/2026-05-07/
LOCATION:Milwaukee Art Museum\, 700 N. Art Museum Drive\, Milwaukee\, WI\, 53202\, United States
CATEGORIES:For Members,Free for Members,In-Person,Museum Store
ATTACH;FMTTYPE=image/jpeg:https://mam.org/events/wp-content/uploads/2026/02/FRPhoto_241122L_C1_088.jpg
GEO:43.0401373;-87.897045
X-APPLE-STRUCTURED-LOCATION;VALUE=URI;X-ADDRESS=Milwaukee Art Museum 700 N. Art Museum Drive Milwaukee WI 53202 United States;X-APPLE-RADIUS=500;X-TITLE=700 N. Art Museum Drive:geo:-87.897045,43.0401373
END:VEVENT
BEGIN:VEVENT
DTSTART;TZID=America/Chicago:20260507T100000
DTEND;TZID=America/Chicago:20260507T200000
DTSTAMP:20260419T151750
CREATED:20260305T165839Z
LAST-MODIFIED:20260317T155834Z
UID:10002663-1778148000-1778184000@mam.org
SUMMARY:Member Preview Day + Celebration: “Currents 40: Widline Cadet”
DESCRIPTION:As a Member\, enjoy early access to Currents 40: Widline Cadet in the Herzfeld Center for Photography and Media Arts. In her first museum solo exhibition in the United States\, artist Widline Cadet debuts her project Seremoni Disparisyon (Ritual [Dis]Appearance) in full. Complete as of 2025\, the ambitious series explores Black diasporic life and survival based on Cadet’s lived experience of emigrating from Haiti to the United States. Join us in the evening for a conversation between the artist and Kristen Gaylord\, Herzfeld Curator of Photography and Media Arts. \n  \nLineup\n10 a.m.–8 p.m. | Member-only exhibition access\n5 p.m. | Live music\, cash bar\, and snacks for purchase in Windover Hall\n6:15 p.m. | Opening Conversation in Lubar Auditorium\nWidline Cadet and Kristen Gaylord\, Herzfeld Curator of Photography and Media Arts. Seating for the conversation is first come\, first served. \nLet us know you are joining us at the conversation below. \nI’ll be there! → \nNot a Member? \nJoin today → \n  \nThe Milwaukee Art Museum is grateful to its exhibition sponsors. \n 
URL:https://mam.org/events/event/member-preview-celebration-widline-cadet/
LOCATION:Milwaukee Art Museum\, 700 N. Art Museum Drive\, Milwaukee\, WI\, 53202\, United States
CATEGORIES:For Members,Free for Members,Herzfeld Center,In-Person,Lubar Auditorium,Widline Cadet
ATTACH;FMTTYPE=image/jpeg:https://mam.org/events/wp-content/uploads/2026/03/26_widline-cadet_thumb.jpg
GEO:43.0401373;-87.897045
X-APPLE-STRUCTURED-LOCATION;VALUE=URI;X-ADDRESS=Milwaukee Art Museum 700 N. Art Museum Drive Milwaukee WI 53202 United States;X-APPLE-RADIUS=500;X-TITLE=700 N. Art Museum Drive:geo:-87.897045,43.0401373
END:VEVENT
BEGIN:VEVENT
DTSTART;TZID=America/Chicago:20260509T110000
DTEND;TZID=America/Chicago:20260509T120000
DTSTAMP:20260419T151750
CREATED:20260212T190648Z
LAST-MODIFIED:20260217T171709Z
UID:10002644-1778324400-1778328000@mam.org
SUMMARY:Member Month Tour: New to the Collection
DESCRIPTION:Learn about artworks that are new to the Museum’s collection or on view for the first time on this Member-only tour led by a Museum docent. The tour will begin in Windhover Hall\, near the Museum’s main entrance and admissions desks. Space is limited. RSVP at membership@mam.org or by calling 414-224-3284. \nNot a Member? \nJoin today →
URL:https://mam.org/events/event/member-month-tour-new-to-the-collection/
LOCATION:Milwaukee Art Museum\, 700 N. Art Museum Drive\, Milwaukee\, WI\, 53202\, United States
CATEGORIES:Drop-In Tours,For Members,Free for Members,In-Person,Requires Reservation,Tours
ATTACH;FMTTYPE=image/jpeg:https://mam.org/events/wp-content/uploads/2026/02/ohio-river.jpg
GEO:43.0401373;-87.897045
X-APPLE-STRUCTURED-LOCATION;VALUE=URI;X-ADDRESS=Milwaukee Art Museum 700 N. Art Museum Drive Milwaukee WI 53202 United States;X-APPLE-RADIUS=500;X-TITLE=700 N. Art Museum Drive:geo:-87.897045,43.0401373
END:VEVENT
BEGIN:VEVENT
DTSTART;TZID=America/Chicago:20260514T100000
DTEND;TZID=America/Chicago:20260514T200000
DTSTAMP:20260419T151750
CREATED:20260212T192435Z
LAST-MODIFIED:20260212T192508Z
UID:10002652-1778752800-1778788800@mam.org
SUMMARY:Museum Store: Member Double Discount Day
DESCRIPTION:In celebration of Member Month\, shop with double your discount (20%) online and at the Museum Store every Thursday in May.
URL:https://mam.org/events/event/museum-store-double-discount/2026-05-14/
LOCATION:Milwaukee Art Museum\, 700 N. Art Museum Drive\, Milwaukee\, WI\, 53202\, United States
CATEGORIES:For Members,Free for Members,In-Person,Museum Store
ATTACH;FMTTYPE=image/jpeg:https://mam.org/events/wp-content/uploads/2026/02/FRPhoto_241122L_C1_088.jpg
GEO:43.0401373;-87.897045
X-APPLE-STRUCTURED-LOCATION;VALUE=URI;X-ADDRESS=Milwaukee Art Museum 700 N. Art Museum Drive Milwaukee WI 53202 United States;X-APPLE-RADIUS=500;X-TITLE=700 N. Art Museum Drive:geo:-87.897045,43.0401373
END:VEVENT
BEGIN:VEVENT
DTSTART;TZID=America/Chicago:20260516T110000
DTEND;TZID=America/Chicago:20260516T120000
DTSTAMP:20260419T151750
CREATED:20260212T191028Z
LAST-MODIFIED:20260212T191118Z
UID:10002645-1778929200-1778932800@mam.org
SUMMARY:Member Month Tour: Wisconsin Art and Artists
DESCRIPTION:Join us for a Members-only tour that explores Wisconsin history through artworks by artists from our state. This docent-led tour will begin in Windhover Hall\, near the Museum’s main entrance and admissions desks. Space is limited. RSVP at membership@mam.org or by calling 414-224-3284. \nNot a Member? \nJoin today →
URL:https://mam.org/events/event/member-month-tour-wi-art-and-artists/
LOCATION:Milwaukee Art Museum\, 700 N. Art Museum Drive\, Milwaukee\, WI\, 53202\, United States
CATEGORIES:Drop-In Tours,For Members,Free for Members,In-Person,Requires Reservation,Tours
ATTACH;FMTTYPE=image/jpeg:https://mam.org/events/wp-content/uploads/2026/02/Reginald-Baylor-On-Duty-Not-Driving.jpg
GEO:43.0401373;-87.897045
X-APPLE-STRUCTURED-LOCATION;VALUE=URI;X-ADDRESS=Milwaukee Art Museum 700 N. Art Museum Drive Milwaukee WI 53202 United States;X-APPLE-RADIUS=500;X-TITLE=700 N. Art Museum Drive:geo:-87.897045,43.0401373
END:VEVENT
BEGIN:VEVENT
DTSTART;TZID=America/Chicago:20260521T100000
DTEND;TZID=America/Chicago:20260521T200000
DTSTAMP:20260419T151750
CREATED:20260212T192435Z
LAST-MODIFIED:20260212T192508Z
UID:10002653-1779357600-1779393600@mam.org
SUMMARY:Museum Store: Member Double Discount Day
DESCRIPTION:In celebration of Member Month\, shop with double your discount (20%) online and at the Museum Store every Thursday in May.
URL:https://mam.org/events/event/museum-store-double-discount/2026-05-21/
LOCATION:Milwaukee Art Museum\, 700 N. Art Museum Drive\, Milwaukee\, WI\, 53202\, United States
CATEGORIES:For Members,Free for Members,In-Person,Museum Store
ATTACH;FMTTYPE=image/jpeg:https://mam.org/events/wp-content/uploads/2026/02/FRPhoto_241122L_C1_088.jpg
GEO:43.0401373;-87.897045
X-APPLE-STRUCTURED-LOCATION;VALUE=URI;X-ADDRESS=Milwaukee Art Museum 700 N. Art Museum Drive Milwaukee WI 53202 United States;X-APPLE-RADIUS=500;X-TITLE=700 N. Art Museum Drive:geo:-87.897045,43.0401373
END:VEVENT
BEGIN:VEVENT
DTSTART;TZID=America/Chicago:20260523T110000
DTEND;TZID=America/Chicago:20260523T120000
DTSTAMP:20260419T151750
CREATED:20260212T191358Z
LAST-MODIFIED:20260317T160140Z
UID:10002646-1779534000-1779537600@mam.org
SUMMARY:Member Month Tour: Bradley Wing of Modern Art
DESCRIPTION:Explore the reimagined Bradley Wing of Modern Art with a Museum docent on this Member-only tour. The tour will begin in Windhover Hall\, near the Museum’s main entrance and admissions desks. Space is limited. RSVP at membership@mam.org or by calling 414-224-3284. \nNot a Member? \nJoin today →
URL:https://mam.org/events/event/member-month-tour-bradley-wing/
LOCATION:Milwaukee Art Museum\, 700 N. Art Museum Drive\, Milwaukee\, WI\, 53202\, United States
CATEGORIES:Drop-In Tours,For Members,Free for Members,In-Person,Requires Reservation,Tours
ATTACH;FMTTYPE=image/jpeg:https://mam.org/events/wp-content/uploads/2026/02/RS24329_FRPhoto_230513N_C1_110_hrj.jpg
GEO:43.0401373;-87.897045
X-APPLE-STRUCTURED-LOCATION;VALUE=URI;X-ADDRESS=Milwaukee Art Museum 700 N. Art Museum Drive Milwaukee WI 53202 United States;X-APPLE-RADIUS=500;X-TITLE=700 N. Art Museum Drive:geo:-87.897045,43.0401373
END:VEVENT
BEGIN:VEVENT
DTSTART;TZID=America/Chicago:20260528T100000
DTEND;TZID=America/Chicago:20260528T200000
DTSTAMP:20260419T151750
CREATED:20260212T192435Z
LAST-MODIFIED:20260212T192508Z
UID:10002654-1779962400-1779998400@mam.org
SUMMARY:Museum Store: Member Double Discount Day
DESCRIPTION:In celebration of Member Month\, shop with double your discount (20%) online and at the Museum Store every Thursday in May.
URL:https://mam.org/events/event/museum-store-double-discount/2026-05-28/
LOCATION:Milwaukee Art Museum\, 700 N. Art Museum Drive\, Milwaukee\, WI\, 53202\, United States
CATEGORIES:For Members,Free for Members,In-Person,Museum Store
ATTACH;FMTTYPE=image/jpeg:https://mam.org/events/wp-content/uploads/2026/02/FRPhoto_241122L_C1_088.jpg
GEO:43.0401373;-87.897045
X-APPLE-STRUCTURED-LOCATION;VALUE=URI;X-ADDRESS=Milwaukee Art Museum 700 N. Art Museum Drive Milwaukee WI 53202 United States;X-APPLE-RADIUS=500;X-TITLE=700 N. Art Museum Drive:geo:-87.897045,43.0401373
END:VEVENT
BEGIN:VEVENT
DTSTART;TZID=America/Chicago:20260528T170000
DTEND;TZID=America/Chicago:20260528T191500
DTSTAMP:20260419T151750
CREATED:20260219T165607Z
LAST-MODIFIED:20260415T192441Z
UID:10002659-1779987600-1779995700@mam.org
SUMMARY:Member Mingle + Layton Lecture
DESCRIPTION:Join your fellow Members in Windhover Hall for delightful conversation in celebration of Gertrude Abercrombie: The Whole World Is a Mystery. Following the Member Mingle\, gather in Lubar Auditorium for the Layton Lecture to hear from Bob Cozzolino\, Patrick and Aimee Butler Curator of Paintings at the Minneapolis Institute of Art and author\, for a conversation on self-representation\, landscape\, and the world of objects through the lens of the Magic Realist artists. \n  \nLineup\n5–6 p.m. | Member Mingle in Windhover Hall\nCash bar with snacks for purchase; one complimentary beverage for Art Advocate Members and above\n6:15-7:15 p.m. | Layton Lecture in Lubar Auditorium\nSeating is first come\, first served. \nRSVP for the Mingle → \n  \nQuestions? Contact Membership at membership@mam.org or 414-224-3284. \nNot a Member? \nJoin today → \n  \nThe Milwaukee Art Museum is grateful to its exhibition sponsors.
URL:https://mam.org/events/event/member-mingle-layton-lecture/
LOCATION:Milwaukee Art Museum\, 700 N. Art Museum Drive\, Milwaukee\, WI\, 53202\, United States
CATEGORIES:American,For Members,Free for Members,Gertrude Abercrombie,In-Person,Requires Reservation,Windhover Hall
ATTACH;FMTTYPE=image/jpeg:https://mam.org/events/wp-content/uploads/2026/02/mingle-lecture.jpg
GEO:43.0401373;-87.897045
X-APPLE-STRUCTURED-LOCATION;VALUE=URI;X-ADDRESS=Milwaukee Art Museum 700 N. Art Museum Drive Milwaukee WI 53202 United States;X-APPLE-RADIUS=500;X-TITLE=700 N. Art Museum Drive:geo:-87.897045,43.0401373
END:VEVENT
BEGIN:VEVENT
DTSTART;TZID=America/Chicago:20260530T110000
DTEND;TZID=America/Chicago:20260530T120000
DTSTAMP:20260419T151750
CREATED:20260212T191604Z
LAST-MODIFIED:20260217T171915Z
UID:10002647-1780138800-1780142400@mam.org
SUMMARY:Member Month Tour: Contemporary Art
DESCRIPTION:Join a Member-only tour for a deep dive into artworks of different mediums made since the 1960’s. This docent-led tour will begin in Windhover Hall\, near the Museum’s main entrance and admissions desks. Space is limited. RSVP at membership@mam.org or by calling 414-224-3284. \nNot a Member? \nJoin today →
URL:https://mam.org/events/event/member-month-tour-contemporary-art/
LOCATION:Milwaukee Art Museum\, 700 N. Art Museum Drive\, Milwaukee\, WI\, 53202\, United States
CATEGORIES:Drop-In Tours,For Members,Free for Members,In-Person,Requires Reservation,Tours
ATTACH;FMTTYPE=image/jpeg:https://mam.org/events/wp-content/uploads/2026/02/swarm.jpg
GEO:43.0401373;-87.897045
X-APPLE-STRUCTURED-LOCATION;VALUE=URI;X-ADDRESS=Milwaukee Art Museum 700 N. Art Museum Drive Milwaukee WI 53202 United States;X-APPLE-RADIUS=500;X-TITLE=700 N. Art Museum Drive:geo:-87.897045,43.0401373
END:VEVENT
END:VCALENDAR