BEGIN:VCALENDAR
VERSION:2.0
PRODID:-//MAM Events - ECPv6.15.20//NONSGML v1.0//EN
CALSCALE:GREGORIAN
METHOD:PUBLISH
X-WR-CALNAME:MAM Events
X-ORIGINAL-URL:https://mam.org/events
X-WR-CALDESC:Events for MAM Events
REFRESH-INTERVAL;VALUE=DURATION:PT1H
X-Robots-Tag:noindex
X-PUBLISHED-TTL:PT1H
BEGIN:VTIMEZONE
TZID:America/Chicago
BEGIN:DAYLIGHT
TZOFFSETFROM:-0600
TZOFFSETTO:-0500
TZNAME:CDT
DTSTART:20250309T080000
END:DAYLIGHT
BEGIN:STANDARD
TZOFFSETFROM:-0500
TZOFFSETTO:-0600
TZNAME:CST
DTSTART:20251102T070000
END:STANDARD
BEGIN:DAYLIGHT
TZOFFSETFROM:-0600
TZOFFSETTO:-0500
TZNAME:CDT
DTSTART:20260308T080000
END:DAYLIGHT
BEGIN:STANDARD
TZOFFSETFROM:-0500
TZOFFSETTO:-0600
TZNAME:CST
DTSTART:20261101T070000
END:STANDARD
BEGIN:DAYLIGHT
TZOFFSETFROM:-0600
TZOFFSETTO:-0500
TZNAME:CDT
DTSTART:20270314T080000
END:DAYLIGHT
BEGIN:STANDARD
TZOFFSETFROM:-0500
TZOFFSETTO:-0600
TZNAME:CST
DTSTART:20271107T070000
END:STANDARD
END:VTIMEZONE
BEGIN:VEVENT
DTSTART;TZID=America/Chicago:20260305T140000
DTEND;TZID=America/Chicago:20260305T150000
DTSTAMP:20260419T151836
CREATED:20251205T180408Z
LAST-MODIFIED:20251209T211659Z
UID:10002019-1772719200-1772722800@mam.org
SUMMARY:Coffee with the Director
DESCRIPTION:Meet Dr. Kim Sajet\, Donna and Donald Baumgartner Director\, and learn more about her vision for the Museum’s exciting next chapter. \nRSVP by Tuesday\, February 19\, at rsvp@mam.org or 414-224-3259. Not a Benefactor level Member? Join today or upgrade your membership for access to this and other exclusive events. Call the membership team at 414-224-3284. \n  \nImage: Photo by Kat Schleicher
URL:https://mam.org/events/event/coffee-with-the-director/2026-03-05/
LOCATION:Milwaukee Art Museum\, 700 N. Art Museum Drive\, Milwaukee\, WI\, 53202\, United States
CATEGORIES:For Members,In-Person,Requires Reservation,Windhover Hall
ATTACH;FMTTYPE=image/jpeg:https://mam.org/events/wp-content/uploads/2025/12/MAM_KimSajet_Final.jpg
GEO:43.0401373;-87.897045
X-APPLE-STRUCTURED-LOCATION;VALUE=URI;X-ADDRESS=Milwaukee Art Museum 700 N. Art Museum Drive Milwaukee WI 53202 United States;X-APPLE-RADIUS=500;X-TITLE=700 N. Art Museum Drive:geo:-87.897045,43.0401373
END:VEVENT
BEGIN:VEVENT
DTSTART;TZID=America/Chicago:20260306T100000
DTEND;TZID=America/Chicago:20260306T110000
DTSTAMP:20260419T151836
CREATED:20251205T180408Z
LAST-MODIFIED:20251209T211659Z
UID:10002020-1772791200-1772794800@mam.org
SUMMARY:Coffee with the Director
DESCRIPTION:Meet Dr. Kim Sajet\, Donna and Donald Baumgartner Director\, and learn more about her vision for the Museum’s exciting next chapter. \nRSVP by Tuesday\, February 19\, at rsvp@mam.org or 414-224-3259. Not a Benefactor level Member? Join today or upgrade your membership for access to this and other exclusive events. Call the membership team at 414-224-3284. \n  \nImage: Photo by Kat Schleicher
URL:https://mam.org/events/event/coffee-with-the-director/2026-03-06/
LOCATION:Milwaukee Art Museum\, 700 N. Art Museum Drive\, Milwaukee\, WI\, 53202\, United States
CATEGORIES:For Members,In-Person,Requires Reservation,Windhover Hall
ATTACH;FMTTYPE=image/jpeg:https://mam.org/events/wp-content/uploads/2025/12/MAM_KimSajet_Final.jpg
GEO:43.0401373;-87.897045
X-APPLE-STRUCTURED-LOCATION;VALUE=URI;X-ADDRESS=Milwaukee Art Museum 700 N. Art Museum Drive Milwaukee WI 53202 United States;X-APPLE-RADIUS=500;X-TITLE=700 N. Art Museum Drive:geo:-87.897045,43.0401373
END:VEVENT
BEGIN:VEVENT
DTSTART;TZID=America/Chicago:20260325T173000
DTEND;TZID=America/Chicago:20260325T203000
DTSTAMP:20260419T151836
CREATED:20251211T211758Z
LAST-MODIFIED:20251223T171358Z
UID:10002009-1774459800-1774470600@mam.org
SUMMARY:President’s Circle Preview Celebration: “Gertrude Abercrombie: The Whole World Is a Mystery”
DESCRIPTION:The Trustees of the Milwaukee Art Museum and Dr. Kim Sajet\, Donna and Donald Baumgartner Director invite you to celebrate the beautiful\, strange\, and deeply personal world of Gertrude Abercrombie: The Whole World Is a Mystery\, in the first nationally touring retrospective of Abercrombie’s enigmatic paintings. Enjoy a special introduction to the exhibition led by Thomas Busciglio-Ritter\, Abert Family Associate Curator of American Art\, Milwaukee Art Museum\, and Sarah Humphreville\, Lunder Curator of American Art\, Colby College Museum of Art. The evening continues with a lively\, jazz-age salon reminiscent of the soirées hosted by Gertrude Abercrombie herself\, the “Queen of Chicago.” \n  \nEvening highlights\n5:30 p.m. | Welcome cocktails in Windhover Hall\n6:15 p.m. | Exhibition introduction in Lubar Auditorium\n7:00 p.m. | Live music\, artful hors d’ouvres\, and signature drinks in Windhover Hall\nCocktail attire and valet parking \nRSVP by Wednesday\, March 12 at rsvp@mam.org or by calling us at 414-224-3259. Not a Partner level Member? Join today or upgrade your membership for access to this and other exclusive events. Call the membership team at 414-224-3284. The Milwaukee Art Museum is grateful to its exhibition sponsors. \n  \nGertrude Abercrombie: The Whole World Is a Mystery is co-organized by Carnegie Museum of Art and Colby College Museum of Art\, and is curated by Eric Crosby\, Henry J. Heinz II Director\, Carnegie Museum of Art\, and Vice President\, Carnegie Museums\, and Sarah Humphreville\, Lunder Curator of American Art\, Colby College Museum of Art\, with Cynthia Stucki\, curatorial assistant\, Carnegie Museum of Art.
URL:https://mam.org/events/event/preview-celebration-gertrude-abercrombie/
LOCATION:Milwaukee Art Museum\, 700 N. Art Museum Drive\, Milwaukee\, WI\, 53202\, United States
CATEGORIES:American,For Members,Gertrude Abercrombie,In-Person,Lubar Auditorium,Requires Reservation,Windhover Hall
ATTACH;FMTTYPE=image/jpeg:https://mam.org/events/wp-content/uploads/2025/12/abercrombie_strange_shadows.jpg
GEO:43.0401373;-87.897045
X-APPLE-STRUCTURED-LOCATION;VALUE=URI;X-ADDRESS=Milwaukee Art Museum 700 N. Art Museum Drive Milwaukee WI 53202 United States;X-APPLE-RADIUS=500;X-TITLE=700 N. Art Museum Drive:geo:-87.897045,43.0401373
END:VEVENT
BEGIN:VEVENT
DTSTART;TZID=America/Chicago:20260326T100000
DTEND;TZID=America/Chicago:20260326T200000
DTSTAMP:20260419T151836
CREATED:20251211T212249Z
LAST-MODIFIED:20260217T181730Z
UID:10002010-1774519200-1774555200@mam.org
SUMMARY:Member Preview Day + Celebration: “Gertrude Abercrombie: The Whole World Is a Mystery”
DESCRIPTION:As a Member\, you enjoy early access to Gertrude Abercrombie: The Whole World Is a Mystery\, the first nationally touring retrospective of the Abercrombie’s enigmatic paintings. In the evening\, join us for live music and a cash bar in Windhover Hall before a special 6:15 p.m. conversation between Thomas Busciglio-Ritter\, Abert Family Associate Curator of American Art at the Milwaukee Art Museum\, and Zack Wirsum\, Senior Vice President and Head of Department\, Post War and Contemporary Art at Freeman’s Auction. \n  \nLineup\n10 a.m.–8 p.m. | Member-only exhibition access\n5 p.m. | Live music and cash bar with snacks available for purchase\n6:15 p.m. | Opening talk in Lubar Auditorium. Seating is first come\, first served. \nLet us know that you are joining the evening celebration below. \nI’ll be there! → \n  \nNot a Member? Join today for access to this and other exclusive events. Call the membership team at 414-224-3284. The Milwaukee Art Museum is grateful to its exhibition sponsors. \nGertrude Abercrombie: The Whole World Is a Mystery is co-organized by Carnegie Museum of Art and Colby College Museum of Art\, and is curated by Eric Crosby\, Henry J. Heinz II Director\, Carnegie Museum of Art\, and Vice President\, Carnegie Museums\, and Sarah Humphreville\, Lunder Curator of American Art\, Colby College Museum of Art\, with Cynthia Stucki\, curatorial assistant\, Carnegie Museum of Art.
URL:https://mam.org/events/event/member-preview-day-gertrude-abercrombie/
LOCATION:Milwaukee Art Museum\, 700 N. Art Museum Drive\, Milwaukee\, WI\, 53202\, United States
CATEGORIES:For Members,Gertrude Abercrombie,In-Person,Requires Reservation
ATTACH;FMTTYPE=image/jpeg:https://mam.org/events/wp-content/uploads/2025/12/Abercrombie_A-Picture-in-a-Picture-in-a-Picture_1955_1800x1013.jpg
GEO:43.0401373;-87.897045
X-APPLE-STRUCTURED-LOCATION;VALUE=URI;X-ADDRESS=Milwaukee Art Museum 700 N. Art Museum Drive Milwaukee WI 53202 United States;X-APPLE-RADIUS=500;X-TITLE=700 N. Art Museum Drive:geo:-87.897045,43.0401373
END:VEVENT
END:VCALENDAR