BEGIN:VCALENDAR
VERSION:2.0
PRODID:-//MAM Events - ECPv6.15.20//NONSGML v1.0//EN
CALSCALE:GREGORIAN
METHOD:PUBLISH
X-WR-CALNAME:MAM Events
X-ORIGINAL-URL:https://mam.org/events
X-WR-CALDESC:Events for MAM Events
REFRESH-INTERVAL;VALUE=DURATION:PT1H
X-Robots-Tag:noindex
X-PUBLISHED-TTL:PT1H
BEGIN:VTIMEZONE
TZID:America/Chicago
BEGIN:DAYLIGHT
TZOFFSETFROM:-0600
TZOFFSETTO:-0500
TZNAME:CDT
DTSTART:20250309T080000
END:DAYLIGHT
BEGIN:STANDARD
TZOFFSETFROM:-0500
TZOFFSETTO:-0600
TZNAME:CST
DTSTART:20251102T070000
END:STANDARD
BEGIN:DAYLIGHT
TZOFFSETFROM:-0600
TZOFFSETTO:-0500
TZNAME:CDT
DTSTART:20260308T080000
END:DAYLIGHT
BEGIN:STANDARD
TZOFFSETFROM:-0500
TZOFFSETTO:-0600
TZNAME:CST
DTSTART:20261101T070000
END:STANDARD
BEGIN:DAYLIGHT
TZOFFSETFROM:-0600
TZOFFSETTO:-0500
TZNAME:CDT
DTSTART:20270314T080000
END:DAYLIGHT
BEGIN:STANDARD
TZOFFSETFROM:-0500
TZOFFSETTO:-0600
TZNAME:CST
DTSTART:20271107T070000
END:STANDARD
END:VTIMEZONE
BEGIN:VEVENT
DTSTART;TZID=America/Chicago:20261015T170000
DTEND;TZID=America/Chicago:20261015T191500
DTSTAMP:20260424T113829
CREATED:20260319T190514Z
LAST-MODIFIED:20260319T190620Z
UID:10002710-1792083600-1792091700@mam.org
SUMMARY:Member Mingle + Expert Series
DESCRIPTION:Join your fellow Members in Windhover Hall for an evening of mingling and conversation. Following the Member Mingle\, gather together in Lubar Auditorium for a conversation exploring the main themes in Seeking Revelation: German Romantic Prints and Drawings\, featuring the authors of the exhibition catalogue. \n  \nLineup\n5–6 p.m. | Member Mingle in Windhover Hall\nCash bar with snacks for purchase; one complimentary beverage for Art Advocate Members and above\n6:15-7:15 p.m. | Expert Series in Lubar Auditorium\nSeating is first come\, first served. \nRSVP for the Mingle → \n  \nQuestions? Contact membership at membership@mam.org or 414-224-3284. \nNot a Member? \nJoin today → \n  \nThe Milwaukee Art Museum is grateful to its exhibition sponsors.
URL:https://mam.org/events/event/member-mingle-expert-series-seeking-revelation/
LOCATION:Milwaukee Art Museum\, 700 N. Art Museum Drive\, Milwaukee\, WI\, 53202\, United States
CATEGORIES:For Members,Free for Members,In-Person,Requires Reservation,Seeking Revelation,Windhover Hall
ATTACH;FMTTYPE=image/jpeg:https://mam.org/events/wp-content/uploads/2026/03/FRPhoto_250925G_C1_105.jpg
GEO:43.0401373;-87.897045
X-APPLE-STRUCTURED-LOCATION;VALUE=URI;X-ADDRESS=Milwaukee Art Museum 700 N. Art Museum Drive Milwaukee WI 53202 United States;X-APPLE-RADIUS=500;X-TITLE=700 N. Art Museum Drive:geo:-87.897045,43.0401373
END:VEVENT
END:VCALENDAR