BEGIN:VCALENDAR
VERSION:2.0
PRODID:-//MAM Events - ECPv6.15.20//NONSGML v1.0//EN
CALSCALE:GREGORIAN
METHOD:PUBLISH
X-ORIGINAL-URL:https://mam.org/events
X-WR-CALDESC:Events for MAM Events
REFRESH-INTERVAL;VALUE=DURATION:PT1H
X-Robots-Tag:noindex
X-PUBLISHED-TTL:PT1H
BEGIN:VTIMEZONE
TZID:America/Chicago
BEGIN:DAYLIGHT
TZOFFSETFROM:-0600
TZOFFSETTO:-0500
TZNAME:CDT
DTSTART:20250309T080000
END:DAYLIGHT
BEGIN:STANDARD
TZOFFSETFROM:-0500
TZOFFSETTO:-0600
TZNAME:CST
DTSTART:20251102T070000
END:STANDARD
BEGIN:DAYLIGHT
TZOFFSETFROM:-0600
TZOFFSETTO:-0500
TZNAME:CDT
DTSTART:20260308T080000
END:DAYLIGHT
BEGIN:STANDARD
TZOFFSETFROM:-0500
TZOFFSETTO:-0600
TZNAME:CST
DTSTART:20261101T070000
END:STANDARD
BEGIN:DAYLIGHT
TZOFFSETFROM:-0600
TZOFFSETTO:-0500
TZNAME:CDT
DTSTART:20270314T080000
END:DAYLIGHT
BEGIN:STANDARD
TZOFFSETFROM:-0500
TZOFFSETTO:-0600
TZNAME:CST
DTSTART:20271107T070000
END:STANDARD
END:VTIMEZONE
BEGIN:VEVENT
DTSTART;TZID=America/Chicago:20260210T160000
DTEND;TZID=America/Chicago:20260210T200000
DTSTAMP:20260424T045334
CREATED:20251218T185514Z
LAST-MODIFIED:20260120T185053Z
UID:10002583-1770739200-1770753600@mam.org
SUMMARY:Venue Showcase
DESCRIPTION:Discover what’s possible when you host your event at one of Milwaukee’s most iconic venues! \nJoin us for an exclusive showcase at the Milwaukee Art Museum and explore our stunning event spaces; perfect for weddings\, corporate gatherings\, and milestone celebrations. Meet top local vendors\, sample curated bites\, and experience inspired room setups that will spark your ideas for your next event. Our talented events team will be on hand to help you envision how your celebration can come to life at the Milwaukee Art Museum. \nRegister now →
URL:https://mam.org/events/event/mam-venue-showcase/
LOCATION:Milwaukee Art Museum\, 700 N. Art Museum Drive\, Milwaukee\, WI\, 53202\, United States
CATEGORIES:In-Person,Requires Reservation
ATTACH;FMTTYPE=image/jpeg:https://mam.org/events/wp-content/uploads/2025/12/windhoverhall-wedding.jpg
GEO:43.0401373;-87.897045
X-APPLE-STRUCTURED-LOCATION;VALUE=URI;X-ADDRESS=Milwaukee Art Museum 700 N. Art Museum Drive Milwaukee WI 53202 United States;X-APPLE-RADIUS=500;X-TITLE=700 N. Art Museum Drive:geo:-87.897045,43.0401373
END:VEVENT
BEGIN:VEVENT
DTSTART;TZID=America/Chicago:20260217T113000
DTEND;TZID=America/Chicago:20260217T133000
DTSTAMP:20260424T045334
CREATED:20251120T204341Z
LAST-MODIFIED:20260116T162232Z
UID:10002011-1771327800-1771335000@mam.org
SUMMARY:Exhibition Preview Luncheon
DESCRIPTION:Join Dr. Kim Sajet\, Donna and Donald Baumgartner Director\, and the Museum’s curators for a special luncheon as they present a sneak peek of the upcoming exhibitions opening at the Milwaukee Art Museum in the year ahead. \nRSVP by Tuesday\, February 3\, at rsvp@mam.org or 414-224-3259. Not a Benefactor level Member? Join today or upgrade your membership for access to this and other exclusive events. Call the membership team at 414-224-3284.
URL:https://mam.org/events/event/feb-exhibition-preview-luncheon/
LOCATION:Milwaukee Art Museum\, 700 N. Art Museum Drive\, Milwaukee\, WI\, 53202\, United States
CATEGORIES:For Members,In-Person,Requires Reservation,Windhover Hall
ATTACH;FMTTYPE=image/jpeg:https://mam.org/events/wp-content/uploads/2025/11/RS6403_r_m2001_171_001_lpr.jpg
GEO:43.0401373;-87.897045
X-APPLE-STRUCTURED-LOCATION;VALUE=URI;X-ADDRESS=Milwaukee Art Museum 700 N. Art Museum Drive Milwaukee WI 53202 United States;X-APPLE-RADIUS=500;X-TITLE=700 N. Art Museum Drive:geo:-87.897045,43.0401373
END:VEVENT
BEGIN:VEVENT
DTSTART;TZID=America/Chicago:20260226T191500
DTEND;TZID=America/Chicago:20260226T210000
DTSTAMP:20260424T045334
CREATED:20260115T200807Z
LAST-MODIFIED:20260219T170647Z
UID:10002622-1772133300-1772139600@mam.org
SUMMARY:SOLD OUT: Black Art Matters Dinner Honoring Willie Cole
DESCRIPTION:Join the Milwaukee Art Museum’s African American Art Alliance for an evening celebrating the work and impact of acclaimed artist Willie Cole\, whose art—represented in the Museum’s collection—continues to shape contemporary art and affirm that Black Art Matters now more than ever. Best known for transforming everyday found objects into powerful works of art rooted in African imagery and cultural reference\, Cole’s work invites reflection\, dialogue\, and connection. \nFollowing the Artist Talk\, enjoy an intimate three-course dinner with the artist at communal tables\, as we break bread together in celebration of art and community\, and Cole’s lasting contributions. The night also marks the reinstallation of Cole’s work\, Domestic Dancers\, in the galleries\, hung in proximity to Together by past Alliance honoree and Milwaukee-based collage artist Della Wells\, who will be in attendance. \n  \nEvening program\n6:15 p.m. | Artist talk\, Lubar Auditorium\nOpen to the public\, free with pay-what-you-wish admission \n7:15 p.m. | Dinner\, East End\nTicketed event \nDinner tickets\n$125/$75 African American Art Alliance Members \nYour participation supports the Alliance in expanding the Museum’s collection\, championing exhibitions by Black artists\, and ensuring that Black art continues to thrive at MAM.
URL:https://mam.org/events/event/black-art-matters-dinner-willie-cole/
LOCATION:Milwaukee Art Museum\, 700 N. Art Museum Drive\, Milwaukee\, WI\, 53202\, United States
CATEGORIES:African American Art Alliance,Payment Required,Requires Reservation
ATTACH;FMTTYPE=image/jpeg:https://mam.org/events/wp-content/uploads/2020/11/willie-cole_header.jpg
GEO:43.0401373;-87.897045
X-APPLE-STRUCTURED-LOCATION;VALUE=URI;X-ADDRESS=Milwaukee Art Museum 700 N. Art Museum Drive Milwaukee WI 53202 United States;X-APPLE-RADIUS=500;X-TITLE=700 N. Art Museum Drive:geo:-87.897045,43.0401373
END:VEVENT
END:VCALENDAR