BEGIN:VCALENDAR
VERSION:2.0
PRODID:-//MAM Events - ECPv6.15.20//NONSGML v1.0//EN
CALSCALE:GREGORIAN
METHOD:PUBLISH
X-WR-CALNAME:MAM Events
X-ORIGINAL-URL:https://mam.org/events
X-WR-CALDESC:Events for MAM Events
REFRESH-INTERVAL;VALUE=DURATION:PT1H
X-Robots-Tag:noindex
X-PUBLISHED-TTL:PT1H
BEGIN:VTIMEZONE
TZID:America/Chicago
BEGIN:DAYLIGHT
TZOFFSETFROM:-0600
TZOFFSETTO:-0500
TZNAME:CDT
DTSTART:20240310T080000
END:DAYLIGHT
BEGIN:STANDARD
TZOFFSETFROM:-0500
TZOFFSETTO:-0600
TZNAME:CST
DTSTART:20241103T070000
END:STANDARD
BEGIN:DAYLIGHT
TZOFFSETFROM:-0600
TZOFFSETTO:-0500
TZNAME:CDT
DTSTART:20250309T080000
END:DAYLIGHT
BEGIN:STANDARD
TZOFFSETFROM:-0500
TZOFFSETTO:-0600
TZNAME:CST
DTSTART:20251102T070000
END:STANDARD
BEGIN:DAYLIGHT
TZOFFSETFROM:-0600
TZOFFSETTO:-0500
TZNAME:CDT
DTSTART:20260308T080000
END:DAYLIGHT
BEGIN:STANDARD
TZOFFSETFROM:-0500
TZOFFSETTO:-0600
TZNAME:CST
DTSTART:20261101T070000
END:STANDARD
END:VTIMEZONE
BEGIN:VEVENT
DTSTART;TZID=America/Chicago:20251009T170000
DTEND;TZID=America/Chicago:20251009T191500
DTSTAMP:20260424T102104
CREATED:20250711T165136Z
LAST-MODIFIED:20251006T152945Z
UID:10001579-1760029200-1760037300@mam.org
SUMMARY:Member Mingle + Expert Series
DESCRIPTION:Open to all Members \nPlease note this Member Mingle was originally scheduled for October 16. \nJoin your fellow members for an evening of good company and creative connections in celebration of Peg Bradley’s extraordinary gift of modern and contemporary art and its long-lasting legacy at the Museum and in Milwaukee. Following the Member Mingle\, hear from several scholars whose research brings new insight to The Bradley Collection of Modern Art at the Expert Series in Lubar Auditorium. \n5–6 p.m. Member Mingle in Windhover Hall\nCash bar\, one complimentary beverage for Art Advocate Members and above\n6:15-7:15 p.m. Expert Series in Lubar Auditorium\nSeating is first come\, first served. \nRSVP for the Mingle → \nQuestions? Contact Membership at membership@mam.org or 414-224-3284. \nNot a Member?\nJoin today → \nThe Milwaukee Art Museum is grateful to its exhibition sponsors. \n  \nImage: Photo by Front Room Studios
URL:https://mam.org/events/event/member-mingle-and-expert-series/
LOCATION:Milwaukee Art Museum\, 700 N. Art Museum Drive\, Milwaukee\, WI\, 53202\, United States
CATEGORIES:Bradley Collection,For Members,Free for Members,In-Person,Requires Reservation,Windhover Hall
ATTACH;FMTTYPE=image/jpeg:https://mam.org/events/wp-content/uploads/2025/07/FRPhoto_240404L_C1_006_PRESS.jpg
GEO:43.0401373;-87.897045
X-APPLE-STRUCTURED-LOCATION;VALUE=URI;X-ADDRESS=Milwaukee Art Museum 700 N. Art Museum Drive Milwaukee WI 53202 United States;X-APPLE-RADIUS=500;X-TITLE=700 N. Art Museum Drive:geo:-87.897045,43.0401373
END:VEVENT
BEGIN:VEVENT
DTSTART;TZID=America/Chicago:20251031T193000
DTEND;TZID=America/Chicago:20251031T213000
DTSTAMP:20260424T102104
CREATED:20250903T203236Z
LAST-MODIFIED:20251010T213133Z
UID:10001605-1761939000-1761946200@mam.org
SUMMARY:Performance: Present Music's “All Souls Eve”
DESCRIPTION:Extend your experience of the exhibition The Bradley Collection of Modern Art: A Bold Vision for Milwaukee with Present Music’s All Souls Eve\, a celebratory concert of remembrance inspired by Mexican Day of the Dead traditions. The evening features music by Gabriela Ortiz and Miguel del Aguila; The Old Burying Ground\, an evocative song-cycle by Evan Chambers; and the world premiere of Music of the While\, a new commission by composer Viet Cuong\, honoring the memory of Cecile Chang. Deanna Tham conducts. \nCome early to enjoy food from local specialty food trucks\, view a traditional ofrenda created by artist Francisco X. Mora\, and explore the featured exhibition before the concert. At 6:30 p.m.\, join a preconcert conversation with Cuong\, Tham\, and Mora\, moderated by Milwaukee Art Museum Senior Director of Community Dialogue & Adult Programs\, Dr. Kantara Souffrant. \nMilwaukee Art Museum Members enjoy a 15% discount on Present Music tickets with the code PMMAM. \nBuy tickets → \n  \nSponsors\nSuzanne and Richard Pieper\nPieperPower
URL:https://mam.org/events/event/present-music-all-souls-eve/
LOCATION:Milwaukee Art Museum\, 700 N. Art Museum Drive\, Milwaukee\, WI\, 53202\, United States
CATEGORIES:Bradley Collection,Film + Music,In-Person,Payment Required,Performances,Requires Reservation
ATTACH;FMTTYPE=image/jpeg:https://mam.org/events/wp-content/uploads/2025/09/Present-Music-Photo.jpg
GEO:43.0401373;-87.897045
X-APPLE-STRUCTURED-LOCATION;VALUE=URI;X-ADDRESS=Milwaukee Art Museum 700 N. Art Museum Drive Milwaukee WI 53202 United States;X-APPLE-RADIUS=500;X-TITLE=700 N. Art Museum Drive:geo:-87.897045,43.0401373
END:VEVENT
END:VCALENDAR