BEGIN:VCALENDAR
VERSION:2.0
PRODID:-//MAM Events - ECPv6.15.20//NONSGML v1.0//EN
CALSCALE:GREGORIAN
METHOD:PUBLISH
X-ORIGINAL-URL:https://mam.org/events
X-WR-CALDESC:Events for MAM Events
REFRESH-INTERVAL;VALUE=DURATION:PT1H
X-Robots-Tag:noindex
X-PUBLISHED-TTL:PT1H
BEGIN:VTIMEZONE
TZID:America/Chicago
BEGIN:DAYLIGHT
TZOFFSETFROM:-0600
TZOFFSETTO:-0500
TZNAME:CDT
DTSTART:20240310T080000
END:DAYLIGHT
BEGIN:STANDARD
TZOFFSETFROM:-0500
TZOFFSETTO:-0600
TZNAME:CST
DTSTART:20241103T070000
END:STANDARD
BEGIN:DAYLIGHT
TZOFFSETFROM:-0600
TZOFFSETTO:-0500
TZNAME:CDT
DTSTART:20250309T080000
END:DAYLIGHT
BEGIN:STANDARD
TZOFFSETFROM:-0500
TZOFFSETTO:-0600
TZNAME:CST
DTSTART:20251102T070000
END:STANDARD
BEGIN:DAYLIGHT
TZOFFSETFROM:-0600
TZOFFSETTO:-0500
TZNAME:CDT
DTSTART:20260308T080000
END:DAYLIGHT
BEGIN:STANDARD
TZOFFSETFROM:-0500
TZOFFSETTO:-0600
TZNAME:CST
DTSTART:20261101T070000
END:STANDARD
END:VTIMEZONE
BEGIN:VEVENT
DTSTART;TZID=America/Chicago:20250920T180000
DTEND;TZID=America/Chicago:20250921T000000
DTSTAMP:20260424T113716
CREATED:20241125T193052Z
LAST-MODIFIED:20250729T210056Z
UID:10001321-1758391200-1758412800@mam.org
SUMMARY:Art:Forward Gala
DESCRIPTION:Join us in celebrating 50 years of the Bradley Collection at the Milwaukee Art Museum. In 1975\, Mrs. Harry Lynde (“Peg”) Bradley gifted her extraordinary collection of nearly 400 modern and contemporary works of art\, forever changing the Museum and Milwaukee’s cultural landscape. Today\, this formidable collection remains the cornerstone of the institution’s modern art collection and an inspiring example of how philanthropy can transform a community. \n  \nImage: Wassily Kandinsky (Russian\, 1866–1944)\, Fragment I for Composition VII (Center) (detail)\, 1913. Oil on canvas. 34 15/16 × 39 7/16 in. (88.74 × 100.17 cm). Gift of Mrs. Harry Lynde Bradley M1958.12
URL:https://mam.org/events/event/art-forward-gala-2025/
LOCATION:Milwaukee Art Museum\, 700 N. Art Museum Drive\, Milwaukee\, WI\, 53202\, United States
CATEGORIES:In-Person,Modern,Requires Reservation,Special Event,Windhover Hall
ATTACH;FMTTYPE=image/jpeg:https://mam.org/events/wp-content/uploads/2024/11/Bradley_AFG_v11800x1013-calendar-1.jpg
GEO:43.0401373;-87.897045
X-APPLE-STRUCTURED-LOCATION;VALUE=URI;X-ADDRESS=Milwaukee Art Museum 700 N. Art Museum Drive Milwaukee WI 53202 United States;X-APPLE-RADIUS=500;X-TITLE=700 N. Art Museum Drive:geo:-87.897045,43.0401373
END:VEVENT
BEGIN:VEVENT
DTSTART;TZID=America/Chicago:20250925T100000
DTEND;TZID=America/Chicago:20250925T200000
DTSTAMP:20260424T113716
CREATED:20250617T184613Z
LAST-MODIFIED:20250916T171257Z
UID:10001577-1758794400-1758830400@mam.org
SUMMARY:Member Preview Day + Celebration: “The Bradley Collection of Modern Art”
DESCRIPTION:Open to all Members \nAs a Member\, you enjoy early access to The Bradley Collection of Modern Art: A Bold Vision for Milwaukee\, a major exhibition that celebrates Peg Bradley’s extraordinary gift of modern and contemporary art and its long-lasting legacy at the Museum and in Milwaukee. In the evening\, join us for live music\, a cash bar\, and the opening talk with Liz Siegel\, chief of curatorial affairs. \n  \nLineup\n10 a.m.-8 p.m. | Member-only exhibition access\n5 p.m. | Live music and cash bar with snacks available for purchase\n6:15 p.m. | Opening talk in Lubar Auditorium. Seating is first come\, first served.\n4:30–8 p.m. | The Museum Café will have special hours with additional dishes and snacks to enjoy. \nLet us know that you are joining the evening celebration below. \nI’ll be there! → \n  \nNot a Member? Join today for access to this and other exclusive events. Call the membership team at 414-224-3284. \nThe Milwaukee Art Museum is grateful to its exhibition sponsors. \n  \nImage: Wassily Kandinsky (French\, b. Russia\, 1866–1944)\, Fragment I for Composition VII (Center) (detail)\, 1913. Oil on canvas. 34 15/16 × 39 7/16 in. (88.74 × 100.17 cm). Milwaukee Art Museum\, Gift of Mrs. Harry Lynde Bradley\, M1958.12
URL:https://mam.org/events/event/member-preview-day-celebration-the-bradley-collection/
LOCATION:Milwaukee Art Museum\, 700 N. Art Museum Drive\, Milwaukee\, WI\, 53202\, United States
CATEGORIES:Bradley Collection,For Members,In-Person,Requires Reservation
ATTACH;FMTTYPE=image/jpeg:https://mam.org/events/wp-content/uploads/2025/06/kandinsky_fragment-II.jpg
GEO:43.0401373;-87.897045
X-APPLE-STRUCTURED-LOCATION;VALUE=URI;X-ADDRESS=Milwaukee Art Museum 700 N. Art Museum Drive Milwaukee WI 53202 United States;X-APPLE-RADIUS=500;X-TITLE=700 N. Art Museum Drive:geo:-87.897045,43.0401373
END:VEVENT
END:VCALENDAR